BEGIN:VCALENDAR
VERSION:2.0
PRODID:SchoolNow
CALSCALE:GREGORIAN
BEGIN:VEVENT
UID:e2a741ee-0545-11ea-bd84-0a8a228f6d35
DTSTAMP:20200219T164619Z
SUMMARY:CDD Board Meeting - Feb. 2020
LOCATION:Lake Bernadette Clubhouse\, 5410 Golf Links Boulevard\, Zephyrhill
 s\, Florida 33541
URL;VALUE=URI:https://www.lakebernadette.org/calendar/2143347/cdd-board-mee
 ting-feb-2020
DTSTART:20200225T230000Z
DTEND:20200226T000000Z
ATTACH;FILENAME=2020-02-25 LB Agenda.pdf;FMTTYPE=application/pdf:https://ca
 mpussuite-storage.s3.amazonaws.com/prod/1558951/7cf346c0-f057-11e9-b942-12
 606da399aa/2053807/52a89274-5337-11ea-bb1c-0a02a2bcddef/file/2020-02-25 LB
  Agenda.pdf
END:VEVENT
END:VCALENDAR
