BEGIN:VCALENDAR
VERSION:2.0
PRODID:SchoolNow
CALSCALE:GREGORIAN
BEGIN:VEVENT
UID:f3c39e84-948a-11f0-9e00-0e3e0f5850df
DTSTAMP:20251022T194600Z
SUMMARY:CDD Board Meeting - Oct. 2025
LOCATION:The Lake Bernadette Clubhouse\, 5410  Golf Links Boulevard\, Zephy
 rhills\, Florida
URL;VALUE=URI:https://www.lakebernadette.org/calendar/8636080/cdd-board-mee
 ting-oct-2025
DTSTART:20251028T220000Z
DTEND:20251028T230000Z
ATTACH;FILENAME=2025-10-28 LB Agenda Package v2.pdf;FMTTYPE=application/pdf
 :https://campussuite-storage.s3.amazonaws.com/prod/1558951/7cf346c0-f057-1
 1e9-b942-12606da399aa/3024875/b9cf9ec0-af7f-11f0-8e1b-0a58a9feac02/file/20
 25-10-28 LB Agenda Package v2.pdf
END:VEVENT
END:VCALENDAR
