BEGIN:VCALENDAR
VERSION:2.0
PRODID:SchoolNow
CALSCALE:GREGORIAN
BEGIN:VEVENT
UID:fdf19c12-948a-11f0-8ab1-02783b3868e5
DTSTAMP:20251125T161244Z
SUMMARY:CDD Board Meeting - Dec. 2025
LOCATION:The Lake Bernadette Clubhouse\, 5410  Golf Links Boulevard\, Zephy
 rhills\, Florida
URL;VALUE=URI:https://www.lakebernadette.org/calendar/8636081/cdd-board-mee
 ting-dec-2025
DTSTART:20251202T230000Z
DTEND:20251203T000000Z
ATTACH;FILENAME=2025-12-02 LB Agenda Package.pdf;FMTTYPE=application/pdf:ht
 tps://campussuite-storage.s3.amazonaws.com/prod/1558951/7cf346c0-f057-11e9
 -b942-12606da399aa/3043681/91137f4c-ca19-11f0-a1c1-0a58a9feac02/file/2025-
 12-02 LB Agenda Package.pdf
END:VEVENT
END:VCALENDAR
