BEGIN:VCALENDAR
VERSION:2.0
PRODID:SchoolNow
CALSCALE:GREGORIAN
BEGIN:VEVENT
UID:08a08074-948b-11f0-8e0b-0a58a9feac02
DTSTAMP:20260129T131010Z
SUMMARY:CDD Board Meeting - Jan. 2026
LOCATION:The Lake Bernadette Clubhouse\, 5410  Golf Links Boulevard\, Zephy
 rhills\, Florida
URL;VALUE=URI:https://www.lakebernadette.org/calendar/8636082/cdd-board-mee
 ting-jan-2026
DTSTART:20260127T230000Z
DTEND:20260128T000000Z
ATTACH;FILENAME=2026-01-27 Lake Bernadette CDD Agenda Package.pdf;FMTTYPE=a
 pplication/pdf:https://campussuite-storage.s3.amazonaws.com/prod/1558951/7
 cf346c0-f057-11e9-b942-12606da399aa/3065142/d3c63a28-fd13-11f0-8fa8-0a58a9
 feac02/file/2026-01-27 Lake Bernadette CDD Agenda Package.pdf
END:VEVENT
END:VCALENDAR
