BEGIN:VCALENDAR
VERSION:2.0
PRODID:SchoolNow
CALSCALE:GREGORIAN
BEGIN:VEVENT
UID:15c5f284-948b-11f0-9456-0a58a9feac02
DTSTAMP:20260217T150602Z
SUMMARY:CDD Board Meeting - Feb. 2026
LOCATION:The Lake Bernadette Clubhouse\, 5410  Golf Links Boulevard\, Zephy
 rhills\, Florida
URL;VALUE=URI:https://www.lakebernadette.org/calendar/8636083/cdd-board-mee
 ting-feb-2026
DTSTART:20260224T230000Z
DTEND:20260225T000000Z
ATTACH;FILENAME=2026-02-24 LB AGENDA PACKAGE.pdf;FMTTYPE=application/pdf:ht
 tps://campussuite-storage.s3.amazonaws.com/prod/1558951/7cf346c0-f057-11e9
 -b942-12606da399aa/3071294/29f054d0-0c12-11f1-8894-0afff8bfbea1/file/2026-
 02-24 LB AGENDA PACKAGE.pdf
END:VEVENT
END:VCALENDAR
