BEGIN:VCALENDAR
VERSION:2.0
PRODID:SchoolNow
CALSCALE:GREGORIAN
BEGIN:VEVENT
UID:1efa935a-948b-11f0-9cf1-0a58a9feac02
DTSTAMP:20260318T132817Z
SUMMARY:CDD Board Meeting - Mar. 2026
LOCATION:The Lake Bernadette Clubhouse\, 5410  Golf Links Boulevard\, Zephy
 rhills\, Florida
URL;VALUE=URI:https://www.lakebernadette.org/calendar/8636084/cdd-board-mee
 ting-mar-2026
DTSTART:20260324T220000Z
DTEND:20260324T230000Z
ATTACH;FILENAME=2026-03-24 LAKE BERNADETTE CDD AGENDA PACKAGE.pdf;FMTTYPE=a
 pplication/pdf:https://campussuite-storage.s3.amazonaws.com/prod/1558951/7
 cf346c0-f057-11e9-b942-12606da399aa/3080807/4930c70e-22c3-11f1-8d52-0a58a9
 feac02/file/2026-03-24 LAKE BERNADETTE CDD AGENDA PACKAGE.pdf
END:VEVENT
END:VCALENDAR
