BEGIN:VCALENDAR
VERSION:2.0
PRODID:SchoolNow
CALSCALE:GREGORIAN
BEGIN:VEVENT
UID:291e3364-948b-11f0-aa7b-0e3e0f5850df
DTSTAMP:20250918T122945Z
SUMMARY:CDD Board Meeting - Apr. 2026
LOCATION:The Lake Bernadette Clubhouse\, 5410  Golf Links Boulevard\, Zephy
 rhills\, Florida
URL;VALUE=URI:https://www.lakebernadette.org/calendar/8636085/cdd-board-mee
 ting-apr-2026
DTSTART:20260428T220000Z
DTEND:20260428T230000Z
END:VEVENT
END:VCALENDAR
