BEGIN:VCALENDAR
VERSION:2.0
PRODID:SchoolNow
CALSCALE:GREGORIAN
BEGIN:VEVENT
UID:53f51260-948b-11f0-8796-0e95b99e68a1
DTSTAMP:20250918T123057Z
SUMMARY:CDD Board Meeting - Aug. 2026
LOCATION:The Lake Bernadette Clubhouse\, 5410  Golf Links Boulevard\, Zephy
 rhills\, Florida
URL;VALUE=URI:https://www.lakebernadette.org/calendar/8636089/cdd-board-mee
 ting-aug-2026
DTSTART:20260825T220000Z
DTEND:20260825T230000Z
END:VEVENT
END:VCALENDAR
